BEGIN:VCALENDAR
VERSION:2.0
PRODID:-//Tukios.com/
BEGIN:VEVENT
UID:1577dc3c-8112-4755-92cf-c82ef576c302@www.highlandfh.com
DTSTAMP:20260420T203510Z
DTSTART:20260424T153000Z
DTEND:20260424T160000Z
SUMMARY:Graveside Service
DESCRIPTION:
URL:https://www.highlandfh.com/obituaries/jack-kapaldo
LOCATION:Highland Memory Gardens 3329 E. Semoran Boulevard  Apopka FL 
	32703
GEO:28.6714496;-81.447812
END:VEVENT
END:VCALENDAR