BEGIN:VCALENDAR
VERSION:2.0
PRODID:-//Tukios.com/
BEGIN:VEVENT
UID:c5f462c5-ed96-4e02-8894-1adfc35b8a4f@www.highlandfh.com
DTSTAMP:20260420T203233Z
DTSTART:20260424T150000Z
DTEND:20260424T153000Z
SUMMARY:Funeral Service
DESCRIPTION:
URL:https://www.highlandfh.com/obituaries/jack-kapaldo
LOCATION:Highland Funeral Home 3329 E. Semoran Blvd.  Apopka FL 32703
GEO:28.6714496;-81.447812
END:VEVENT
END:VCALENDAR