BEGIN:VCALENDAR
VERSION:2.0
PRODID:-//Tukios.com/
BEGIN:VEVENT
UID:840eeaf7-be25-4fa4-945e-81805406f48e@www.highlandfh.com
DTSTAMP:20260420T203416Z
DTSTART:20260424T140000Z
DTEND:20260424T150000Z
SUMMARY:Public Viewing
DESCRIPTION:
URL:https://www.highlandfh.com/obituaries/jack-kapaldo
LOCATION:Highland Funeral Home 3329 E. Semoran Blvd.  Apopka FL 32703
GEO:28.6714496;-81.447812
END:VEVENT
END:VCALENDAR