BEGIN:VCALENDAR
VERSION:2.0
PRODID:-//Tukios.com/
BEGIN:VEVENT
UID:ee78b949-e09e-4edf-905c-6d7359e039e8@www.highlandfh.com
DTSTAMP:20260421T194352Z
DTSTART:20260423T153000Z
DTEND:20260423T160000Z
SUMMARY:Graveside Service
DESCRIPTION:
URL:https://www.highlandfh.com/obituaries/lucia-flores-de-mejia
LOCATION:Highland Memory Gardens 3329 E. Semoran Boulevard  Apopka FL 
	32703
GEO:28.6714496;-81.447812
END:VEVENT
END:VCALENDAR