BEGIN:VCALENDAR
VERSION:2.0
PRODID:-//Tukios.com/
BEGIN:VEVENT
UID:525f34db-1cff-447f-b58c-769a2bf77fd7@www.highlandfh.com
DTSTAMP:20260421T194254Z
DTSTART:20260423T140000Z
DTEND:20260423T153000Z
SUMMARY:Funeral Service
DESCRIPTION:
URL:https://www.highlandfh.com/obituaries/lucia-flores-de-mejia
LOCATION:Highland Funeral Home 3329 E. Semoran Blvd.  Apopka FL 32703
GEO:28.6714496;-81.447812
END:VEVENT
END:VCALENDAR