BEGIN:VCALENDAR
VERSION:2.0
PRODID:-//Tukios.com/
BEGIN:VEVENT
UID:46fd4780-c25f-4a14-a7c8-05af555e34df@www.highlandfh.com
DTSTAMP:20260421T194424Z
DTSTART:20260423T130000Z
DTEND:20260423T140000Z
SUMMARY:Public Viewing
DESCRIPTION:
URL:https://www.highlandfh.com/obituaries/lucia-flores-de-mejia
LOCATION:Highland Funeral Home 3329 E. Semoran Blvd.  Apopka FL 32703
GEO:28.6714496;-81.447812
END:VEVENT
END:VCALENDAR